BEGIN:VCALENDAR
VERSION:2.0
PRODID:-//Kent School - ECPv6.15.20//NONSGML v1.0//EN
CALSCALE:GREGORIAN
METHOD:PUBLISH
X-WR-CALNAME:Kent School
X-ORIGINAL-URL:https://kentschool.org
X-WR-CALDESC:Events for Kent School
REFRESH-INTERVAL;VALUE=DURATION:PT1H
X-Robots-Tag:noindex
X-PUBLISHED-TTL:PT1H
BEGIN:VTIMEZONE
TZID:America/New_York
BEGIN:DAYLIGHT
TZOFFSETFROM:-0500
TZOFFSETTO:-0400
TZNAME:EDT
DTSTART:20250309T070000
END:DAYLIGHT
BEGIN:STANDARD
TZOFFSETFROM:-0400
TZOFFSETTO:-0500
TZNAME:EST
DTSTART:20251102T060000
END:STANDARD
BEGIN:DAYLIGHT
TZOFFSETFROM:-0500
TZOFFSETTO:-0400
TZNAME:EDT
DTSTART:20260308T070000
END:DAYLIGHT
BEGIN:STANDARD
TZOFFSETFROM:-0400
TZOFFSETTO:-0500
TZNAME:EST
DTSTART:20261101T060000
END:STANDARD
BEGIN:DAYLIGHT
TZOFFSETFROM:-0500
TZOFFSETTO:-0400
TZNAME:EDT
DTSTART:20270314T070000
END:DAYLIGHT
BEGIN:STANDARD
TZOFFSETFROM:-0400
TZOFFSETTO:-0500
TZNAME:EST
DTSTART:20271107T060000
END:STANDARD
END:VTIMEZONE
BEGIN:VEVENT
DTSTART;TZID=America/New_York:20260410T143000
DTEND;TZID=America/New_York:20260410T151500
DTSTAMP:20260419T092746
CREATED:20260105T191926Z
LAST-MODIFIED:20260410T190954Z
UID:10000662-1775831400-1775834100@kentschool.org
SUMMARY:All School Meeting
DESCRIPTION:
URL:https://kentschool.org/event/all-school-meeting-248/
CATEGORIES:All School Calendar
END:VEVENT
BEGIN:VEVENT
DTSTART;TZID=America/New_York:20260410T180000
DTEND;TZID=America/New_York:20260410T200000
DTSTAMP:20260419T092746
CREATED:20260316T162459Z
LAST-MODIFIED:20260401T162508Z
UID:10000830-1775844000-1775851200@kentschool.org
SUMMARY:Grades 7/8 Spring Dance
DESCRIPTION:
URL:https://kentschool.org/event/grades-7-8-spring-dance/
CATEGORIES:All School Calendar
END:VEVENT
BEGIN:VEVENT
DTSTART;VALUE=DATE:20260413
DTEND;VALUE=DATE:20260414
DTSTAMP:20260419T092746
CREATED:20260409T133955Z
LAST-MODIFIED:20260413T235452Z
UID:10000852-1776038400-1776124799@kentschool.org
SUMMARY:3rd Grade Jeans Day (Bingo Prize)
DESCRIPTION:
URL:https://kentschool.org/event/3rd-grade-jeans-day-bingo-prize/
CATEGORIES:All School Calendar
END:VEVENT
BEGIN:VEVENT
DTSTART;TZID=America/New_York:20260413T090000
DTEND;TZID=America/New_York:20260413T150000
DTSTAMP:20260419T092746
CREATED:20250812T175048Z
LAST-MODIFIED:20260413T185455Z
UID:10000387-1776070800-1776092400@kentschool.org
SUMMARY:Board Meeting & Workshop w/ Tom Olverson
DESCRIPTION:Join with Google Meet: https://meet.google.com/hwv-majd-ukp\nLearn more about Meet at: https://support.google.com/a/users/answer/9282720
URL:https://kentschool.org/event/monday-board-meeting-workshop-w-tom-olverson/
CATEGORIES:All School Calendar
END:VEVENT
BEGIN:VEVENT
DTSTART;VALUE=DATE:20260414
DTEND;VALUE=DATE:20260415
DTSTAMP:20260419T092746
CREATED:20260413T143952Z
LAST-MODIFIED:20260414T234040Z
UID:10000854-1776124800-1776211199@kentschool.org
SUMMARY:First Grade Field Trip (Fawnwood Farms)
DESCRIPTION:
URL:https://kentschool.org/event/first-grade-field-trip-fawnwood-farms/
CATEGORIES:All School Calendar
END:VEVENT
BEGIN:VEVENT
DTSTART;TZID=America/New_York:20260415T170000
DTEND;TZID=America/New_York:20260415T180000
DTSTAMP:20260419T092746
CREATED:20260107T180423Z
LAST-MODIFIED:20260415T215456Z
UID:10000682-1776272400-1776276000@kentschool.org
SUMMARY:Home Lax games vs Kent Rec
DESCRIPTION:
URL:https://kentschool.org/event/home-lax-games-vs-kent-rec/
CATEGORIES:All School Calendar
END:VEVENT
BEGIN:VEVENT
DTSTART;TZID=America/New_York:20260417T143000
DTEND;TZID=America/New_York:20260417T151500
DTSTAMP:20260419T092746
CREATED:20250417T133514Z
LAST-MODIFIED:20250425T162027Z
UID:10000182-1776436200-1776438900@kentschool.org
SUMMARY:All School Meeting
DESCRIPTION:
URL:https://kentschool.org/event/all-school-meeting-64/
CATEGORIES:All School Calendar
END:VEVENT
BEGIN:VEVENT
DTSTART;TZID=America/New_York:20260417T143000
DTEND;TZID=America/New_York:20260417T151500
DTSTAMP:20260419T092746
CREATED:20250901T145000Z
LAST-MODIFIED:20260105T181923Z
UID:10000459-1776436200-1776438900@kentschool.org
SUMMARY:All School Meeting
DESCRIPTION:
URL:https://kentschool.org/event/all-school-meeting-150/
CATEGORIES:All School Calendar
END:VEVENT
BEGIN:VEVENT
DTSTART;TZID=America/New_York:20260417T143000
DTEND;TZID=America/New_York:20260417T151500
DTSTAMP:20260419T092746
CREATED:20260105T191927Z
LAST-MODIFIED:20260417T191006Z
UID:10000664-1776436200-1776438900@kentschool.org
SUMMARY:All School Meeting
DESCRIPTION:
URL:https://kentschool.org/event/all-school-meeting-249/
CATEGORIES:All School Calendar
END:VEVENT
BEGIN:VEVENT
DTSTART;TZID=America/New_York:20260417T160000
DTEND;TZID=America/New_York:20260417T173000
DTSTAMP:20260419T092746
CREATED:20250902T133445Z
LAST-MODIFIED:20260417T212459Z
UID:10000536-1776441600-1776447000@kentschool.org
SUMMARY:Spring Arts Showcase
DESCRIPTION:
URL:https://kentschool.org/event/spring-arts-showcase/
CATEGORIES:All School Calendar
END:VEVENT
BEGIN:VEVENT
DTSTART;VALUE=DATE:20260418
DTEND;VALUE=DATE:20260419
DTSTAMP:20260419T092746
CREATED:20260217T203420Z
LAST-MODIFIED:20260218T191928Z
UID:10000733-1776470400-1776556799@kentschool.org
SUMMARY:Chestertown Book Block Party
DESCRIPTION:
URL:https://kentschool.org/event/chestertown-book-block-party/
CATEGORIES:All School Calendar
END:VEVENT
BEGIN:VEVENT
DTSTART;TZID=America/New_York:20260421T091500
DTEND;TZID=America/New_York:20260421T113000
DTSTAMP:20260419T092746
CREATED:20260407T125457Z
LAST-MODIFIED:20260419T132459Z
UID:10000849-1776762900-1776771000@kentschool.org
SUMMARY:7th Grade Watershed Watch Radcliffe Creek Paddle
DESCRIPTION:
URL:https://kentschool.org/event/watershed-watch-ms-radcliffe-creek-paddle/
CATEGORIES:All School Calendar
END:VEVENT
BEGIN:VEVENT
DTSTART;TZID=America/New_York:20260421T161500
DTEND;TZID=America/New_York:20260421T171500
DTSTAMP:20260419T092746
CREATED:20260106T163434Z
LAST-MODIFIED:20260419T132459Z
UID:10000675-1776788100-1776791700@kentschool.org
SUMMARY:Home Girls Lacrosse Game vs Easton Middle School
DESCRIPTION:
URL:https://kentschool.org/event/home-lacrosse-games-vs-easton-middle-school/
CATEGORIES:All School Calendar
END:VEVENT
BEGIN:VEVENT
DTSTART;VALUE=DATE:20260422
DTEND;VALUE=DATE:20260423
DTSTAMP:20260419T092746
CREATED:20250902T133446Z
LAST-MODIFIED:20260419T132500Z
UID:10000537-1776816000-1776902399@kentschool.org
SUMMARY:Earth Day
DESCRIPTION:
URL:https://kentschool.org/event/earth-day-2/
CATEGORIES:All School Calendar
END:VEVENT
BEGIN:VEVENT
DTSTART;VALUE=DATE:20260422
DTEND;VALUE=DATE:20260423
DTSTAMP:20260419T092746
CREATED:20260408T185459Z
LAST-MODIFIED:20260419T132459Z
UID:10000851-1776816000-1776902399@kentschool.org
SUMMARY:Red Team Jeans Day from the KSPA for Luisa's participation
DESCRIPTION:
URL:https://kentschool.org/event/red-team-jeans-day-from-the-kspa-for-luisas-participation/
CATEGORIES:All School Calendar
END:VEVENT
BEGIN:VEVENT
DTSTART;TZID=America/New_York:20260423T170000
DTEND;TZID=America/New_York:20260423T180000
DTSTAMP:20260419T092746
CREATED:20260218T160427Z
LAST-MODIFIED:20260327T171002Z
UID:10000735-1776963600-1776967200@kentschool.org
SUMMARY:Away girls lacrosse @ Church Hill turf
DESCRIPTION:
URL:https://kentschool.org/event/away-girls-lacrosse-church-hill-turf/
CATEGORIES:All School Calendar
END:VEVENT
BEGIN:VEVENT
DTSTART;TZID=America/New_York:20260423T170000
DTEND;TZID=America/New_York:20260423T180000
DTSTAMP:20260419T092746
CREATED:20260327T174016Z
LAST-MODIFIED:20260419T132500Z
UID:10000839-1776963600-1776967200@kentschool.org
SUMMARY:Away girls lacrosse game only @ Church Hill
DESCRIPTION:
URL:https://kentschool.org/event/away-lacrosse-games-church-hill/
CATEGORIES:All School Calendar
END:VEVENT
BEGIN:VEVENT
DTSTART;VALUE=DATE:20260424
DTEND;VALUE=DATE:20260425
DTSTAMP:20260419T092746
CREATED:20250902T133446Z
LAST-MODIFIED:20260419T132500Z
UID:10000538-1776988800-1777075199@kentschool.org
SUMMARY:Osprey Day
DESCRIPTION:
URL:https://kentschool.org/event/osprey-day-2/
CATEGORIES:All School Calendar
END:VEVENT
BEGIN:VEVENT
DTSTART;TZID=America/New_York:20260424T143000
DTEND;TZID=America/New_York:20260424T151500
DTSTAMP:20260419T092746
CREATED:20250417T133514Z
LAST-MODIFIED:20250425T162027Z
UID:10000183-1777041000-1777043700@kentschool.org
SUMMARY:All School Meeting
DESCRIPTION:
URL:https://kentschool.org/event/all-school-meeting-65/
CATEGORIES:All School Calendar
END:VEVENT
BEGIN:VEVENT
DTSTART;TZID=America/New_York:20260424T143000
DTEND;TZID=America/New_York:20260424T151500
DTSTAMP:20260419T092746
CREATED:20250901T145001Z
LAST-MODIFIED:20260105T181924Z
UID:10000460-1777041000-1777043700@kentschool.org
SUMMARY:All School Meeting
DESCRIPTION:
URL:https://kentschool.org/event/all-school-meeting-151/
CATEGORIES:All School Calendar
END:VEVENT
BEGIN:VEVENT
DTSTART;TZID=America/New_York:20260424T143000
DTEND;TZID=America/New_York:20260424T151500
DTSTAMP:20260419T092746
CREATED:20260105T191927Z
LAST-MODIFIED:20260419T132500Z
UID:10000665-1777041000-1777043700@kentschool.org
SUMMARY:All School Meeting
DESCRIPTION:
URL:https://kentschool.org/event/all-school-meeting-250/
CATEGORIES:All School Calendar
END:VEVENT
BEGIN:VEVENT
DTSTART;TZID=America/New_York:20260424T180000
DTEND;TZID=America/New_York:20260424T200000
DTSTAMP:20260419T092746
CREATED:20260417T163955Z
LAST-MODIFIED:20260419T132500Z
UID:10000855-1777053600-1777060800@kentschool.org
SUMMARY:Grades 7 and 8 Spring Dance
DESCRIPTION:
URL:https://kentschool.org/event/grades-7-and-8-spring-dance/
CATEGORIES:All School Calendar
END:VEVENT
BEGIN:VEVENT
DTSTART;VALUE=DATE:20260429
DTEND;VALUE=DATE:20260430
DTSTAMP:20260419T092746
CREATED:20260409T182459Z
LAST-MODIFIED:20260419T132500Z
UID:10000853-1777420800-1777507199@kentschool.org
SUMMARY:Guest Head of School for the Day
DESCRIPTION:
URL:https://kentschool.org/event/guest-head-of-school-for-the-day/
CATEGORIES:All School Calendar
END:VEVENT
BEGIN:VEVENT
DTSTART;TZID=America/New_York:20260429T170000
DTEND;TZID=America/New_York:20260429T180000
DTSTAMP:20260419T092746
CREATED:20260107T180424Z
LAST-MODIFIED:20260419T132500Z
UID:10000683-1777482000-1777485600@kentschool.org
SUMMARY:Away lax games at Worton Park
DESCRIPTION:
URL:https://kentschool.org/event/away-lax-games-at-worton-park/
CATEGORIES:All School Calendar
END:VEVENT
BEGIN:VEVENT
DTSTART;VALUE=DATE:20260430
DTEND;VALUE=DATE:20260501
DTSTAMP:20260419T092746
CREATED:20250521T153453Z
LAST-MODIFIED:20260419T132510Z
UID:10000257-1777507200-1777593599@kentschool.org
SUMMARY:Last Day of Spring Sports
DESCRIPTION:
URL:https://kentschool.org/event/last-day-of-spring-sports/
CATEGORIES:All School Calendar
END:VEVENT
BEGIN:VEVENT
DTSTART;VALUE=DATE:20260430
DTEND;VALUE=DATE:20260501
DTSTAMP:20260419T092746
CREATED:20260330T141008Z
LAST-MODIFIED:20260419T132509Z
UID:10000840-1777507200-1777593599@kentschool.org
SUMMARY:Poem-In-Your-Pocket Day
DESCRIPTION:
URL:https://kentschool.org/event/poem-in-your-pocket-day-2/
CATEGORIES:All School Calendar
END:VEVENT
BEGIN:VEVENT
DTSTART;TZID=America/New_York:20260430T160000
DTEND;TZID=America/New_York:20260430T170000
DTSTAMP:20260419T092746
CREATED:20260107T144926Z
LAST-MODIFIED:20260419T132510Z
UID:10000680-1777564800-1777568400@kentschool.org
SUMMARY:Home Lax games vs Country School
DESCRIPTION:
URL:https://kentschool.org/event/home-lax-games-vs-country-school/
CATEGORIES:All School Calendar
END:VEVENT
BEGIN:VEVENT
DTSTART;VALUE=DATE:20260501
DTEND;VALUE=DATE:20260502
DTSTAMP:20260419T092746
CREATED:20250521T173447Z
LAST-MODIFIED:20260419T132510Z
UID:10000278-1777593600-1777679999@kentschool.org
SUMMARY:Little School Closed-Teacher Professional Learning
DESCRIPTION:
URL:https://kentschool.org/event/little-school-closed-teacher-professional-learning/
CATEGORIES:All School Calendar
END:VEVENT
BEGIN:VEVENT
DTSTART;VALUE=DATE:20260501
DTEND;VALUE=DATE:20260502
DTSTAMP:20260419T092746
CREATED:20250804T140623Z
LAST-MODIFIED:20260407T122503Z
UID:10000351-1777593600-1777679999@kentschool.org
SUMMARY:KSPA Teacher Lunch Coverage
DESCRIPTION:
URL:https://kentschool.org/event/kspa-teacher-lunch-coverage-7/
CATEGORIES:All School Calendar
END:VEVENT
BEGIN:VEVENT
DTSTART;VALUE=DATE:20260501
DTEND;VALUE=DATE:20260502
DTSTAMP:20260419T092746
CREATED:20250804T140623Z
LAST-MODIFIED:20260407T122503Z
UID:10000352-1777593600-1777679999@kentschool.org
SUMMARY:KSPA Pizza Lunch
DESCRIPTION:
URL:https://kentschool.org/event/kspa-pizza-lunch-12/
CATEGORIES:All School Calendar
END:VEVENT
END:VCALENDAR